Package: DEqMS Version: 1.24.0 Command: /Library/Frameworks/R.framework/Resources/bin/R CMD INSTALL DEqMS StartedAt: 2025-01-27 15:29:14 -0500 (Mon, 27 Jan 2025) EndedAt: 2025-01-27 15:29:24 -0500 (Mon, 27 Jan 2025) EllapsedTime: 10.6 seconds RetCode: 0 Status: OK