Package: DEXSeq Version: 1.52.0 Command: /Library/Frameworks/R.framework/Resources/bin/R CMD check --install=check:DEXSeq.install-out.txt --library=/Library/Frameworks/R.framework/Resources/library --no-vignettes --timings DEXSeq_1.52.0.tar.gz StartedAt: 2025-01-28 02:54:33 -0500 (Tue, 28 Jan 2025) EndedAt: 2025-01-28 03:07:17 -0500 (Tue, 28 Jan 2025) EllapsedTime: 764.1 seconds RetCode: 0 Status: OK CheckDir: DEXSeq.Rcheck Warnings: 0