Package: DEXSeq Version: 1.52.0 Command: /Library/Frameworks/R.framework/Resources/bin/R CMD build --keep-empty-dirs --no-resave-data DEXSeq StartedAt: 2025-01-27 18:30:08 -0500 (Mon, 27 Jan 2025) EndedAt: 2025-01-27 18:34:32 -0500 (Mon, 27 Jan 2025) EllapsedTime: 264.1 seconds RetCode: 0 Status: OK PackageFile: DEXSeq_1.52.0.tar.gz PackageFileSize: 1.779 MiB