Package: DESpace Version: 1.6.1 Command: /home/biocbuild/R/R/bin/R CMD build --keep-empty-dirs --no-resave-data DESpace StartedAt: 2025-03-31 23:03:28 -0000 (Mon, 31 Mar 2025) EndedAt: 2025-03-31 23:05:47 -0000 (Mon, 31 Mar 2025) EllapsedTime: 139.0 seconds RetCode: 1 Status: ERROR PackageFile: None PackageFileSize: NA