Package: DEScan2 Version: 1.26.0 Command: /home/biocbuild/R/R/bin/R CMD check --install=check:DEScan2.install-out.txt --library=/home/biocbuild/R/R/site-library --no-vignettes --timings DEScan2_1.26.0.tar.gz StartedAt: 2025-04-01 05:50:34 -0000 (Tue, 01 Apr 2025) EndedAt: 2025-04-01 05:59:48 -0000 (Tue, 01 Apr 2025) EllapsedTime: 553.8 seconds RetCode: 0 Status: WARNINGS CheckDir: DEScan2.Rcheck Warnings: 2