Package: DEScan2 Version: 1.26.0 Command: F:\biocbuild\bbs-3.20-bioc\R\bin\R.exe CMD INSTALL DEScan2 StartedAt: 2025-01-27 16:47:44 -0500 (Mon, 27 Jan 2025) EndedAt: 2025-01-27 16:49:00 -0500 (Mon, 27 Jan 2025) EllapsedTime: 75.9 seconds RetCode: 0 Status: OK