Package: DEScan2 Version: 1.26.0 Command: chmod a+r DEScan2 -R && F:\biocbuild\bbs-3.20-bioc\R\bin\R.exe CMD build --keep-empty-dirs --no-resave-data DEScan2 StartedAt: 2025-01-27 18:26:46 -0500 (Mon, 27 Jan 2025) EndedAt: 2025-01-27 18:29:05 -0500 (Mon, 27 Jan 2025) EllapsedTime: 139.0 seconds RetCode: 0 Status: OK PackageFile: DEScan2_1.26.0.tar.gz PackageFileSize: 2.404 MiB