Package: DEScan2 Version: 1.26.0 Command: rm -rf DEScan2.buildbin-libdir && mkdir DEScan2.buildbin-libdir && /Users/biocbuild/BBS/utils/build-universal.sh DEScan2_1.26.0.tar.gz /Library/Frameworks/R.framework/Resources/bin/R DEScan2.buildbin-libdir StartedAt: 2025-01-28 12:59:12 -0500 (Tue, 28 Jan 2025) EndedAt: 2025-01-28 13:01:54 -0500 (Tue, 28 Jan 2025) EllapsedTime: 161.5 seconds RetCode: 0 Status: OK PackageFile: DEScan2_1.26.0.tgz PackageFileSize: 2.601 MiB