Package: DEScan2 Version: 1.26.0 Command: /Library/Frameworks/R.framework/Resources/bin/R CMD build --keep-empty-dirs --no-resave-data DEScan2 StartedAt: 2025-01-27 22:27:06 -0500 (Mon, 27 Jan 2025) EndedAt: 2025-01-27 22:28:55 -0500 (Mon, 27 Jan 2025) EllapsedTime: 108.9 seconds RetCode: 0 Status: OK PackageFile: DEScan2_1.26.0.tar.gz PackageFileSize: 2.478 MiB