Package: DEP Version: 1.28.0 Command: chmod a+r DEP -R && F:\biocbuild\bbs-3.20-bioc\R\bin\R.exe CMD build --keep-empty-dirs --no-resave-data DEP StartedAt: 2025-01-27 18:25:18 -0500 (Mon, 27 Jan 2025) EndedAt: 2025-01-27 18:27:28 -0500 (Mon, 27 Jan 2025) EllapsedTime: 130.1 seconds RetCode: 0 Status: OK PackageFile: DEP_1.28.0.tar.gz PackageFileSize: 2.201 MiB