Package: DEP Version: 1.28.0 Command: rm -rf DEP.buildbin-libdir && mkdir DEP.buildbin-libdir && /Users/biocbuild/BBS/utils/build-universal.sh DEP_1.28.0.tar.gz /Library/Frameworks/R.framework/Resources/bin/R DEP.buildbin-libdir StartedAt: 2025-01-29 14:21:56 -0500 (Wed, 29 Jan 2025) EndedAt: 2025-01-29 14:22:46 -0500 (Wed, 29 Jan 2025) EllapsedTime: 49.5 seconds RetCode: 0 Status: OK PackageFile: DEP_1.28.0.tgz PackageFileSize: 4.301 MiB