Package: DELocal Version: 1.6.0 Command: /home/biocbuild/R/R/bin/R CMD INSTALL DELocal StartedAt: 2025-02-03 20:41:11 -0000 (Mon, 03 Feb 2025) EndedAt: 2025-02-03 20:41:42 -0000 (Mon, 03 Feb 2025) EllapsedTime: 31.3 seconds RetCode: 0 Status: OK