Package: DELocal Version: 1.6.0 Command: /home/biocbuild/R/R/bin/R CMD check --install=check:DELocal.install-out.txt --library=/home/biocbuild/R/R/site-library --no-vignettes --timings DELocal_1.6.0.tar.gz StartedAt: 2025-01-31 05:34:19 -0000 (Fri, 31 Jan 2025) EndedAt: 2025-01-31 05:37:54 -0000 (Fri, 31 Jan 2025) EllapsedTime: 214.3 seconds RetCode: 0 Status: OK CheckDir: DELocal.Rcheck Warnings: 0