Package: DELocal Version: 1.6.0 Command: /home/biocbuild/bbs-3.20-bioc/R/bin/R CMD build --keep-empty-dirs --no-resave-data --md5 DELocal StartedAt: 2025-03-31 16:58:28 -0400 (Mon, 31 Mar 2025) EndedAt: 2025-03-31 16:59:42 -0400 (Mon, 31 Mar 2025) EllapsedTime: 74.1 seconds RetCode: 0 Status: OK PackageFile: DELocal_1.6.0.tar.gz PackageFileSize: 2.344 MiB