Package: DELocal Version: 1.6.0 Command: /Library/Frameworks/R.framework/Resources/bin/R CMD INSTALL DELocal StartedAt: 2025-03-31 15:33:23 -0400 (Mon, 31 Mar 2025) EndedAt: 2025-03-31 15:34:23 -0400 (Mon, 31 Mar 2025) EllapsedTime: 59.9 seconds RetCode: 0 Status: OK