Package: DEGseq Version: 1.60.0 Command: F:\biocbuild\bbs-3.20-bioc\R\bin\R.exe CMD INSTALL DEGseq StartedAt: 2025-01-30 15:33:54 -0500 (Thu, 30 Jan 2025) EndedAt: 2025-01-30 15:34:39 -0500 (Thu, 30 Jan 2025) EllapsedTime: 44.5 seconds RetCode: 0 Status: OK