Package: DEGseq Version: 1.60.0 Command: rm -rf DEGseq.buildbin-libdir && mkdir DEGseq.buildbin-libdir && F:\biocbuild\bbs-3.20-bioc\R\bin\R.exe CMD INSTALL --build --library=DEGseq.buildbin-libdir DEGseq_1.60.0.tar.gz StartedAt: 2025-01-31 08:30:50 -0500 (Fri, 31 Jan 2025) EndedAt: 2025-01-31 08:31:30 -0500 (Fri, 31 Jan 2025) EllapsedTime: 39.9 seconds RetCode: 0 Status: OK PackageFile: DEGseq_1.60.0.zip PackageFileSize: 2.386 MiB