Package: DEGreport Version: 1.42.0 Command: /home/biocbuild/R/R/bin/R CMD INSTALL DEGreport StartedAt: 2025-01-27 21:31:41 -0000 (Mon, 27 Jan 2025) EndedAt: 2025-01-27 21:32:18 -0000 (Mon, 27 Jan 2025) EllapsedTime: 37.1 seconds RetCode: 0 Status: OK