Package: DEGreport Version: 1.42.0 Command: /home/biocbuild/R/R/bin/R CMD build --keep-empty-dirs --no-resave-data DEGreport StartedAt: 2025-01-27 23:47:04 -0000 (Mon, 27 Jan 2025) EndedAt: 2025-01-27 23:48:38 -0000 (Mon, 27 Jan 2025) EllapsedTime: 94.0 seconds RetCode: 0 Status: OK PackageFile: DEGreport_1.42.0.tar.gz PackageFileSize: 18.85 MiB