Package: DEGreport Version: 1.42.0 Command: rm -rf DEGreport.buildbin-libdir && mkdir DEGreport.buildbin-libdir && F:\biocbuild\bbs-3.20-bioc\R\bin\R.exe CMD INSTALL --build --library=DEGreport.buildbin-libdir DEGreport_1.42.0.tar.gz StartedAt: 2025-01-28 08:00:13 -0500 (Tue, 28 Jan 2025) EndedAt: 2025-01-28 08:01:12 -0500 (Tue, 28 Jan 2025) EllapsedTime: 59.2 seconds RetCode: 0 Status: OK PackageFile: DEGreport_1.42.0.zip PackageFileSize: 2.304 MiB