Package: DEGreport Version: 1.42.0 Command: /home/biocbuild/bbs-3.20-bioc/R/bin/R CMD check --install=check:DEGreport.install-out.txt --library=/home/biocbuild/bbs-3.20-bioc/R/site-library --timings DEGreport_1.42.0.tar.gz StartedAt: 2025-01-27 22:24:22 -0500 (Mon, 27 Jan 2025) EndedAt: 2025-01-27 22:29:46 -0500 (Mon, 27 Jan 2025) EllapsedTime: 323.3 seconds RetCode: 0 Status: OK CheckDir: DEGreport.Rcheck Warnings: 0