Package: DEGraph Version: 1.58.0 Command: /home/biocbuild/R/R/bin/R CMD build --keep-empty-dirs --no-resave-data DEGraph StartedAt: 2025-03-31 22:58:44 -0000 (Mon, 31 Mar 2025) EndedAt: 2025-03-31 22:59:13 -0000 (Mon, 31 Mar 2025) EllapsedTime: 29.0 seconds RetCode: 0 Status: OK PackageFile: DEGraph_1.58.0.tar.gz PackageFileSize: 1.528 MiB