Package: DEGraph Version: 1.58.0 Command: /home/biocbuild/bbs-3.20-bioc/R/bin/R CMD INSTALL DEGraph StartedAt: 2025-01-27 16:33:34 -0500 (Mon, 27 Jan 2025) EndedAt: 2025-01-27 16:33:43 -0500 (Mon, 27 Jan 2025) EllapsedTime: 8.7 seconds RetCode: 0 Status: OK