Package: DEFormats Version: 1.34.0 Command: /home/biocbuild/R/R/bin/R CMD INSTALL DEFormats StartedAt: 2025-01-27 21:27:19 -0000 (Mon, 27 Jan 2025) EndedAt: 2025-01-27 21:27:54 -0000 (Mon, 27 Jan 2025) EllapsedTime: 34.3 seconds RetCode: 0 Status: OK