Package: DEFormats Version: 1.34.0 Command: /home/biocbuild/R/R/bin/R CMD INSTALL DEFormats StartedAt: 2024-11-19 20:53:17 -0000 (Tue, 19 Nov 2024) EndedAt: 2024-11-19 20:53:53 -0000 (Tue, 19 Nov 2024) EllapsedTime: 36.1 seconds RetCode: 0 Status: OK