Package: DECIPHER Version: 3.2.0 Command: /home/biocbuild/R/R/bin/R CMD build --keep-empty-dirs --no-resave-data DECIPHER StartedAt: 2025-01-27 23:45:09 -0000 (Mon, 27 Jan 2025) EndedAt: 2025-01-28 00:05:26 -0000 (Tue, 28 Jan 2025) EllapsedTime: 1217.5 seconds RetCode: 0 Status: OK PackageFile: DECIPHER_3.2.0.tar.gz PackageFileSize: 16.71 MiB