Package: DECIPHER Version: 3.2.0 Command: /home/biocbuild/bbs-3.20-bioc/R/bin/R CMD build --keep-empty-dirs --no-resave-data --md5 DECIPHER StartedAt: 2025-01-27 17:52:04 -0500 (Mon, 27 Jan 2025) EndedAt: 2025-01-27 18:09:07 -0500 (Mon, 27 Jan 2025) EllapsedTime: 1023.2 seconds RetCode: 0 Status: OK PackageFile: DECIPHER_3.2.0.tar.gz PackageFileSize: 16.8 MiB