Package: DCATS Version: 1.4.0 Command: /home/biocbuild/R/R/bin/R CMD INSTALL DCATS StartedAt: 2025-01-30 20:50:14 -0000 (Thu, 30 Jan 2025) EndedAt: 2025-01-30 20:50:21 -0000 (Thu, 30 Jan 2025) EllapsedTime: 7.6 seconds RetCode: 0 Status: OK