Package: DCATS Version: 1.4.0 Command: /home/biocbuild/R/R/bin/R CMD build --keep-empty-dirs --no-resave-data DCATS StartedAt: 2025-01-30 23:01:25 -0000 (Thu, 30 Jan 2025) EndedAt: 2025-01-30 23:01:42 -0000 (Thu, 30 Jan 2025) EllapsedTime: 17.0 seconds RetCode: 0 Status: OK PackageFile: DCATS_1.4.0.tar.gz PackageFileSize: 2.862 MiB