Package: DCATS Version: 1.4.0 Command: rm -rf DCATS.buildbin-libdir && mkdir DCATS.buildbin-libdir && /Users/biocbuild/BBS/utils/build-universal.sh DCATS_1.4.0.tar.gz /Library/Frameworks/R.framework/Resources/bin/R DCATS.buildbin-libdir StartedAt: 2024-11-20 04:22:35 -0500 (Wed, 20 Nov 2024) EndedAt: 2024-11-20 04:22:48 -0500 (Wed, 20 Nov 2024) EllapsedTime: 12.6 seconds RetCode: 0 Status: OK PackageFile: DCATS_1.4.0.tgz PackageFileSize: 2.866 MiB