Package: DCATS Version: 1.4.0 Command: /Library/Frameworks/R.framework/Resources/bin/R CMD INSTALL DCATS StartedAt: 2025-02-13 17:16:21 -0500 (Thu, 13 Feb 2025) EndedAt: 2025-02-13 17:16:29 -0500 (Thu, 13 Feb 2025) EllapsedTime: 8.3 seconds RetCode: 0 Status: OK