Package: DCATS Version: 1.4.0 Command: /Library/Frameworks/R.framework/Resources/bin/R CMD build --keep-empty-dirs --no-resave-data DCATS StartedAt: 2025-02-13 22:04:46 -0500 (Thu, 13 Feb 2025) EndedAt: 2025-02-13 22:05:04 -0500 (Thu, 13 Feb 2025) EllapsedTime: 18.0 seconds RetCode: 0 Status: OK PackageFile: DCATS_1.4.0.tar.gz PackageFileSize: 2.836 MiB