Package: DCATS Version: 1.4.0 Command: rm -rf DCATS.buildbin-libdir && mkdir DCATS.buildbin-libdir && /Users/biocbuild/BBS/utils/build-universal.sh DCATS_1.4.0.tar.gz /Library/Frameworks/R.framework/Resources/bin/R DCATS.buildbin-libdir StartedAt: 2025-02-15 14:59:18 -0500 (Sat, 15 Feb 2025) EndedAt: 2025-02-15 14:59:27 -0500 (Sat, 15 Feb 2025) EllapsedTime: 8.6 seconds RetCode: 0 Status: OK PackageFile: DCATS_1.4.0.tgz PackageFileSize: 2.866 MiB