Package: DART Version: 1.54.0 Command: /home/biocbuild/R/R/bin/R CMD check --install=check:DART.install-out.txt --library=/home/biocbuild/R/R/site-library --no-vignettes --timings DART_1.54.0.tar.gz StartedAt: 2025-02-04 06:12:19 -0000 (Tue, 04 Feb 2025) EndedAt: 2025-02-04 06:13:20 -0000 (Tue, 04 Feb 2025) EllapsedTime: 61.1 seconds RetCode: 0 Status: OK CheckDir: DART.Rcheck Warnings: 0