Package: DART Version: 1.54.0 Command: /home/biocbuild/bbs-3.20-bioc/R/bin/R CMD INSTALL DART StartedAt: 2025-01-27 15:58:05 -0500 (Mon, 27 Jan 2025) EndedAt: 2025-01-27 15:58:15 -0500 (Mon, 27 Jan 2025) EllapsedTime: 10.0 seconds RetCode: 0 Status: OK