Package: DART Version: 1.54.0 Command: /Library/Frameworks/R.framework/Resources/bin/R CMD check --install=check:DART.install-out.txt --library=/Library/Frameworks/R.framework/Resources/library --no-vignettes --timings DART_1.54.0.tar.gz StartedAt: 2025-04-01 01:42:22 -0400 (Tue, 01 Apr 2025) EndedAt: 2025-04-01 01:43:43 -0400 (Tue, 01 Apr 2025) EllapsedTime: 80.3 seconds RetCode: 0 Status: OK CheckDir: DART.Rcheck Warnings: 0