Package: DART Version: 1.54.0 Command: /Library/Frameworks/R.framework/Resources/bin/R CMD build --keep-empty-dirs --no-resave-data DART StartedAt: 2025-03-31 18:05:49 -0400 (Mon, 31 Mar 2025) EndedAt: 2025-03-31 18:06:38 -0400 (Mon, 31 Mar 2025) EllapsedTime: 49.6 seconds RetCode: 0 Status: OK PackageFile: DART_1.54.0.tar.gz PackageFileSize: 1.987 MiB