Package: DAPAR Version: 1.38.0 Command: /home/biocbuild/bbs-3.20-bioc/R/bin/R CMD INSTALL DAPAR StartedAt: 2025-03-31 15:42:46 -0400 (Mon, 31 Mar 2025) EndedAt: 2025-03-31 15:43:25 -0400 (Mon, 31 Mar 2025) EllapsedTime: 39.1 seconds RetCode: 0 Status: OK