Package: DAPAR Version: 1.38.0 Command: rm -rf DAPAR.buildbin-libdir && mkdir DAPAR.buildbin-libdir && /Users/biocbuild/BBS/utils/build-universal.sh DAPAR_1.38.0.tar.gz /Library/Frameworks/R.framework/Resources/bin/R DAPAR.buildbin-libdir StartedAt: 2025-01-28 12:56:56 -0500 (Tue, 28 Jan 2025) EndedAt: 2025-01-28 12:58:30 -0500 (Tue, 28 Jan 2025) EllapsedTime: 93.9 seconds RetCode: 0 Status: OK PackageFile: DAPAR_1.38.0.tgz PackageFileSize: 705.6 KiB