Package: DAPAR Version: 1.38.0 Command: /Library/Frameworks/R.framework/Resources/bin/R CMD INSTALL DAPAR StartedAt: 2025-03-31 17:05:11 -0400 (Mon, 31 Mar 2025) EndedAt: 2025-03-31 17:05:57 -0400 (Mon, 31 Mar 2025) EllapsedTime: 46.2 seconds RetCode: 0 Status: OK