Package: CytoPipelineGUI Version: 1.4.0 Command: /home/biocbuild/R/R/bin/R CMD check --install=check:CytoPipelineGUI.install-out.txt --library=/home/biocbuild/R/R/site-library --no-vignettes --timings CytoPipelineGUI_1.4.0.tar.gz StartedAt: 2025-01-28 06:17:50 -0000 (Tue, 28 Jan 2025) EndedAt: 2025-01-28 06:21:18 -0000 (Tue, 28 Jan 2025) EllapsedTime: 208.2 seconds RetCode: 0 Status: OK CheckDir: CytoPipelineGUI.Rcheck Warnings: 0