Package: CytoPipelineGUI Version: 1.4.0 Command: F:\biocbuild\bbs-3.20-bioc\R\bin\R.exe CMD INSTALL CytoPipelineGUI StartedAt: 2025-03-31 15:57:14 -0400 (Mon, 31 Mar 2025) EndedAt: 2025-03-31 15:57:38 -0400 (Mon, 31 Mar 2025) EllapsedTime: 24.1 seconds RetCode: 0 Status: OK