Package: CytoPipelineGUI Version: 1.4.0 Command: /home/biocbuild/bbs-3.20-bioc/R/bin/R CMD check --install=check:CytoPipelineGUI.install-out.txt --library=/home/biocbuild/bbs-3.20-bioc/R/site-library --timings CytoPipelineGUI_1.4.0.tar.gz StartedAt: 2025-01-27 22:15:42 -0500 (Mon, 27 Jan 2025) EndedAt: 2025-01-27 22:18:52 -0500 (Mon, 27 Jan 2025) EllapsedTime: 190.2 seconds RetCode: 0 Status: OK CheckDir: CytoPipelineGUI.Rcheck Warnings: 0