Package: CytoPipelineGUI Version: 1.4.0 Command: /Library/Frameworks/R.framework/Resources/bin/R CMD INSTALL CytoPipelineGUI StartedAt: 2025-03-31 15:55:22 -0400 (Mon, 31 Mar 2025) EndedAt: 2025-03-31 15:55:50 -0400 (Mon, 31 Mar 2025) EllapsedTime: 27.8 seconds RetCode: 0 Status: OK