Package: CytoPipelineGUI Version: 1.4.0 Command: /Library/Frameworks/R.framework/Resources/bin/R CMD check --install=check:CytoPipelineGUI.install-out.txt --library=/Library/Frameworks/R.framework/Resources/library --no-vignettes --timings CytoPipelineGUI_1.4.0.tar.gz StartedAt: 2025-01-28 02:23:18 -0500 (Tue, 28 Jan 2025) EndedAt: 2025-01-28 02:30:15 -0500 (Tue, 28 Jan 2025) EllapsedTime: 417.4 seconds RetCode: 0 Status: OK CheckDir: CytoPipelineGUI.Rcheck Warnings: 0