Package: CytoPipeline Version: 1.6.0 Command: F:\biocbuild\bbs-3.20-bioc\R\bin\R.exe CMD check --no-multiarch --install=check:CytoPipeline.install-out.txt --library=F:\biocbuild\bbs-3.20-bioc\R\library --no-vignettes --timings CytoPipeline_1.6.0.tar.gz StartedAt: 2025-02-11 00:46:46 -0500 (Tue, 11 Feb 2025) EndedAt: 2025-02-11 00:52:00 -0500 (Tue, 11 Feb 2025) EllapsedTime: 314.7 seconds RetCode: 0 Status: OK CheckDir: CytoPipeline.Rcheck Warnings: 0