Package: CytoPipeline Version: 1.6.0 Command: chmod a+r CytoPipeline -R && F:\biocbuild\bbs-3.20-bioc\R\bin\R.exe CMD build --keep-empty-dirs --no-resave-data CytoPipeline StartedAt: 2025-02-10 18:23:06 -0500 (Mon, 10 Feb 2025) EndedAt: 2025-02-10 18:24:52 -0500 (Mon, 10 Feb 2025) EllapsedTime: 105.9 seconds RetCode: 0 Status: OK PackageFile: CytoPipeline_1.6.0.tar.gz PackageFileSize: 2.467 MiB