Package: CytoPipeline Version: 1.6.0 Command: /Library/Frameworks/R.framework/Resources/bin/R CMD check --install=check:CytoPipeline.install-out.txt --library=/Library/Frameworks/R.framework/Resources/library --no-vignettes --timings CytoPipeline_1.6.0.tar.gz StartedAt: 2025-02-11 16:43:33 -0500 (Tue, 11 Feb 2025) EndedAt: 2025-02-11 16:48:17 -0500 (Tue, 11 Feb 2025) EllapsedTime: 284.1 seconds RetCode: 0 Status: OK CheckDir: CytoPipeline.Rcheck Warnings: 0