Package: CytoML Version: 2.18.1 Command: /home/biocbuild/R/R/bin/R CMD build --keep-empty-dirs --no-resave-data CytoML StartedAt: 2025-01-27 23:42:02 -0000 (Mon, 27 Jan 2025) EndedAt: 2025-01-27 23:44:09 -0000 (Mon, 27 Jan 2025) EllapsedTime: 127.1 seconds RetCode: 0 Status: OK PackageFile: CytoML_2.18.1.tar.gz PackageFileSize: 7.87 MiB