Package: CytoML Version: 2.18.3 Command: /home/biocbuild/bbs-3.20-bioc/R/bin/R CMD build --keep-empty-dirs --no-resave-data --md5 CytoML StartedAt: 2025-03-31 16:54:20 -0400 (Mon, 31 Mar 2025) EndedAt: 2025-03-31 16:55:45 -0400 (Mon, 31 Mar 2025) EllapsedTime: 84.1 seconds RetCode: 0 Status: OK PackageFile: CytoML_2.18.3.tar.gz PackageFileSize: 8.053 MiB